BEGIN:VCALENDAR
VERSION:2.0
PRODID:DPCALENDAR
CALSCALE:GREGORIAN
BEGIN:VTIMEZONE
TZID:Europe/Berlin
X-MICROSOFT-CDO-TZID:4
BEGIN:STANDARD
DTSTART:20251026T010000
TZOFFSETFROM:+0200
TZOFFSETTO:+0100
TZNAME:CET
END:STANDARD
BEGIN:STANDARD
DTSTART:20261025T010000
TZOFFSETFROM:+0200
TZOFFSETTO:+0100
TZNAME:CET
END:STANDARD
BEGIN:DAYLIGHT
DTSTART:20260329T010000
TZOFFSETFROM:+0100
TZOFFSETTO:+0200
TZNAME:CEST
END:DAYLIGHT
END:VTIMEZONE
X-WR-TIMEZONE:Europe/Berlin
BEGIN:VEVENT
DTSTART;VALUE=DATE:20211109
DTEND;VALUE=DATE:20211110
UID:FF45DC02-271B-4C9A-98BB-909F7DF265E7
SUMMARY:Elternsprechtag JGST 11/12
CREATED:20211007T172838Z
DTSTAMP:20211007T172838Z
URL:https://www.kkg-zwickau.de/gesamtkalender/elternsprechtag-jgst-11-12
LAST-MODIFIED:20211007T172924Z
SEQUENCE:46
X-ACCESS:1
X-HITS:851
X-COLOR:3366cc
X-SHOW-END-TIME:0
END:VEVENT
BEGIN:VEVENT
DTSTART;VALUE=DATE:20220107
DTEND;VALUE=DATE:20220108
UID:D34ABDC9-D7F9-4F0C-BB39-2E5D8D581550
SUMMARY:Notenschluss JGST 12
CREATED:20211007T172914Z
DTSTAMP:20211007T172914Z
URL:https://www.kkg-zwickau.de/gesamtkalender/notenschluss-jgst-12
LAST-MODIFIED:20211208T113041Z
SEQUENCE:5335287
X-ACCESS:1
X-HITS:1384
X-COLOR:3366cc
X-SHOW-END-TIME:0
END:VEVENT
BEGIN:VEVENT
DTSTART;TZID=Europe/Berlin:20220110T090000
DTEND;TZID=Europe/Berlin:20220110T100000
UID:21DC289E-043E-4358-AD84-3916F7D98224
SUMMARY:Eintragung der Punkte 12/I (Tut, FL) 
CREATED:20211007T173020Z
DTSTAMP:20211007T173020Z
URL:https://www.kkg-zwickau.de/gesamtkalender/eintragung-der-punkte-12-i-tut-fl
LAST-MODIFIED:20211208T113223Z
SEQUENCE:5335323
X-ACCESS:1
X-HITS:1287
X-COLOR:3366cc
X-SHOW-END-TIME:0
END:VEVENT
BEGIN:VEVENT
DTSTART;TZID=Europe/Berlin:20220111T170000
DTEND;TZID=Europe/Berlin:20220111T174500
UID:ED40269D-9D0B-4897-BD53-EEC2917FA442
SUMMARY:JG-Konferenz 12 (MZR) 
CREATED:20211007T173020Z
DTSTAMP:20211007T173020Z
URL:https://www.kkg-zwickau.de/gesamtkalender/eintragung-der-punkte-12-i-tut-fl-2
LAST-MODIFIED:20211208T113616Z
SEQUENCE:5335556
X-ACCESS:1
X-HITS:1285
X-COLOR:3366cc
X-SHOW-END-TIME:0
END:VEVENT
BEGIN:VEVENT
DTSTART;VALUE=DATE:20220113
DTEND;VALUE=DATE:20220114
UID:23352685-0636-4430-822C-D7AD27BFE605
SUMMARY:Tag der offenen Hochschultür
CREATED:20211108T095150Z
DTSTAMP:20211108T095150Z
URL:https://www.kkg-zwickau.de/gesamtkalender/tag-der-offenen-hochschultuer
LAST-MODIFIED:20211108T095236Z
SEQUENCE:46
X-ACCESS:1
X-HITS:1363
X-COLOR:3366cc
X-SHOW-END-TIME:1
END:VEVENT
BEGIN:VEVENT
DTSTART;VALUE=DATE:20220117
DTEND;VALUE=DATE:20220118
UID:1FA2DA14-2409-4C46-A915-93457858D9D7
SUMMARY:Zeugnisse 12/I
CREATED:20211108T094613Z
DTSTAMP:20211108T094613Z
URL:https://www.kkg-zwickau.de/gesamtkalender/zeugnisse-12-i
LAST-MODIFIED:20211208T113414Z
SEQUENCE:2598481
X-ACCESS:1
X-HITS:1368
X-COLOR:3366cc
X-SHOW-END-TIME:1
END:VEVENT
BEGIN:VEVENT
DTSTART;VALUE=DATE:20220120
DTEND;VALUE=DATE:20220121
UID:DFA541FA-2BA0-43BB-B181-5CBDF11A2A65
SUMMARY:Notenschluss JG 11
CREATED:20211108T095400Z
DTSTAMP:20211108T095400Z
URL:https://www.kkg-zwickau.de/gesamtkalender/notenschluss-jg-11
X-ACCESS:1
X-HITS:1270
X-COLOR:3366cc
X-SHOW-END-TIME:1
END:VEVENT
BEGIN:VEVENT
DTSTART;VALUE=DATE:20220127
DTEND;VALUE=DATE:20220128
UID:2E1D8E14-C198-4523-8CE4-D68E79B6144B
SUMMARY:Vorprüfung LK und GK DE 
CREATED:20211108T095454Z
DTSTAMP:20211108T095454Z
URL:https://www.kkg-zwickau.de/gesamtkalender/vorpruefung-lk-und-gk-de
X-ACCESS:1
X-HITS:1139
X-COLOR:3366cc
X-SHOW-END-TIME:1
END:VEVENT
BEGIN:VEVENT
DTSTART;TZID=Europe/Berlin:20220201T141500
DTEND;TZID=Europe/Berlin:20220201T151500
UID:B1A0252D-4457-477E-B5A2-FD3CE70D7ED2
SUMMARY:JGST-Konferenz 11
CREATED:20211108T095607Z
DTSTAMP:20211108T095607Z
URL:https://www.kkg-zwickau.de/gesamtkalender/jgst-konferenz-11
X-ACCESS:1
X-HITS:1042
X-COLOR:3366cc
X-SHOW-END-TIME:1
END:VEVENT
BEGIN:VEVENT
DTSTART;VALUE=DATE:20220208
DTEND;VALUE=DATE:20220209
UID:66B8A7B4-7D0B-49E2-B9C0-27767A9D5F4E
SUMMARY:Vorprüfung LK EN, CH und weitere GK
CREATED:20211108T095749Z
DTSTAMP:20211108T095749Z
URL:https://www.kkg-zwickau.de/gesamtkalender/vorpruefung-lk-en-ch-und-weitere-gk
X-ACCESS:1
X-HITS:1081
X-COLOR:3366cc
X-SHOW-END-TIME:1
END:VEVENT
BEGIN:VEVENT
DTSTART;VALUE=DATE:20240826
DTEND;VALUE=DATE:20240827
UID:403CCD01-3C0B-4180-8884-997B2D3FCFC8
SUMMARY:Wahl der Prüfungsfächer
CREATED:20240820T172513Z
DTSTAMP:20240820T172513Z
URL:https://www.kkg-zwickau.de/gesamtkalender/wahl-der-prüfungsfächer
DESCRIPTION:Abgabe Formular "Wahl der Prüfungsfächer und Anmeldung zur Abiturprüfung" bei Tutorinnen
X-ALT-DESC;FMTTYPE=text/html:<p>Abgabe Formular "Wahl der Prüfungsfächer und Anmeldung zur Abiturprüfung" bei Tutorinnen</p>
LAST-MODIFIED:20240820T172513Z
SEQUENCE:0
X-ACCESS:1
X-HITS:547
X-COLOR:3366cc
X-SHOW-END-TIME:1
END:VEVENT
BEGIN:VEVENT
DTSTART;VALUE=DATE:20240826
DTEND;VALUE=DATE:20240827
UID:83456091-C45F-4FBE-B688-8542EDF4F2F2
SUMMARY:Beantragung Nachteilsausgleich Abiturprüfung
CREATED:20240820T172750Z
DTSTAMP:20240820T172750Z
URL:https://www.kkg-zwickau.de/gesamtkalender/beantragung-nachteilsausgleich-abiturprüfung
DESCRIPTION:Formloser Antrag auf Nachteilsausgleich in der Abiturprüfung beim Prüfungsausschuss
X-ALT-DESC;FMTTYPE=text/html:<p>Formloser Antrag auf Nachteilsausgleich in der Abiturprüfung beim Prüfungsausschuss</p>
LAST-MODIFIED:20240820T172750Z
SEQUENCE:0
X-ACCESS:1
X-HITS:668
X-COLOR:3366cc
X-SHOW-END-TIME:1
END:VEVENT
BEGIN:VEVENT
DTSTART;TZID=Europe/Berlin:20241028T153000
DTEND;TZID=Europe/Berlin:20241028T163000
UID:4C8188E3-7C40-4605-9831-55F6E4C06CDF
SUMMARY:Elternsprechtag JGST 11 und 12
CREATED:20240820T173152Z
DTSTAMP:20240820T173152Z
URL:https://www.kkg-zwickau.de/gesamtkalender/elternsprechtag-jgst-11-und-12
DESCRIPTION:Elternsprechtag in der Zeit von 15:30 Uhr bis 16:30 Uhr oder nach Vereinbarung
X-ALT-DESC;FMTTYPE=text/html:<p>Elternsprechtag in der Zeit von 15:30 Uhr bis 16:30 Uhr oder nach Vereinbarung</p>
LAST-MODIFIED:20240820T173152Z
SEQUENCE:0
X-ACCESS:1
X-HITS:683
X-COLOR:3366cc
X-SHOW-END-TIME:1
END:VEVENT
BEGIN:VEVENT
DTSTART;VALUE=DATE:20241220
DTEND;VALUE=DATE:20241221
UID:E79D4CC5-F1BB-41CC-9001-A976E4B76F94
SUMMARY:Kurshalbjahreszeugnisse 12/I
CREATED:20240820T173404Z
DTSTAMP:20240820T173404Z
URL:https://www.kkg-zwickau.de/gesamtkalender/kurshalbjahreszeugnisse-12-i
DESCRIPTION:Ausgabe der Kurshalbjahreszeugnisse 12/I durch die Tutorinnen
X-ALT-DESC;FMTTYPE=text/html:<p>Ausgabe der Kurshalbjahreszeugnisse 12/I durch die Tutorinnen</p>
LAST-MODIFIED:20240820T173404Z
SEQUENCE:0
X-ACCESS:1
X-HITS:873
X-COLOR:3366cc
X-SHOW-END-TIME:1
END:VEVENT
BEGIN:VEVENT
DTSTART;VALUE=DATE:20250109
DTEND;VALUE=DATE:20250110
UID:66BDFA50-CFF4-49D8-AD2B-A2AB6555FC98
SUMMARY:Tag der offenen Hochschultür
CREATED:20240814T080245Z
DTSTAMP:20240814T080245Z
URL:https://www.kkg-zwickau.de/gesamtkalender/tag-der-offenen-hochschultür
DESCRIPTION:Tag der offenen Hochschultür
X-ALT-DESC;FMTTYPE=text/html:<p>Tag der offenen Hochschultür</p>
LAST-MODIFIED:20240814T080723Z
SEQUENCE:278
X-ACCESS:1
X-HITS:911
X-COLOR:3366cc
X-SHOW-END-TIME:1
END:VEVENT
END:VCALENDAR