BEGIN:VCALENDAR
VERSION:2.0
PRODID:DPCALENDAR
CALSCALE:GREGORIAN
BEGIN:VTIMEZONE
TZID:Europe/Berlin
X-MICROSOFT-CDO-TZID:4
BEGIN:STANDARD
DTSTART:20251026T010000
TZOFFSETFROM:+0200
TZOFFSETTO:+0100
TZNAME:CET
END:STANDARD
BEGIN:STANDARD
DTSTART:20261025T010000
TZOFFSETFROM:+0200
TZOFFSETTO:+0100
TZNAME:CET
END:STANDARD
BEGIN:DAYLIGHT
DTSTART:20260329T010000
TZOFFSETFROM:+0100
TZOFFSETTO:+0200
TZNAME:CEST
END:DAYLIGHT
END:VTIMEZONE
X-WR-TIMEZONE:Europe/Berlin
BEGIN:VEVENT
DTSTART;TZID=Europe/Berlin:20200925T123000
DTEND;TZID=Europe/Berlin:20200925T143000
UID:FF9EBE12-C404-4511-B668-85BC96E09FC8
SUMMARY:Sprechstunde: Berufsberatung
CREATED:20200908T190952Z
DTSTAMP:20200908T190952Z
URL:https://www.kkg-zwickau.de/gesamtkalender/sprechstunde-berufsberatung
LOCATION:Lassallestraße 1\, Sachsen
GEO:50.72893104;12.48514652
X-LOCATION-DISPLAYNAME:Zimmer 107
X-ACCESS:1
X-HITS:773
X-COLOR:3b4f69
X-SHOW-END-TIME:1
END:VEVENT
BEGIN:VEVENT
DTSTART;VALUE=DATE:20201008
DTEND;VALUE=DATE:20201009
UID:4052A8C3-E3D9-42AC-AD41-0B4D746B3D3E
SUMMARY:Komm auf Tour für Klassenstufe 8
CREATED:20200909T111324Z
DTSTAMP:20200909T111324Z
URL:https://www.kkg-zwickau.de/gesamtkalender/komm-auf-tour-fuer-klassenstufe-8
X-ACCESS:1
X-HITS:991
X-COLOR:3b4f69
X-SHOW-END-TIME:1
END:VEVENT
BEGIN:VEVENT
DTSTART;VALUE=DATE:20211007
DTEND;VALUE=DATE:20211008
UID:9125E457-5FBE-4FFC-9714-C1A4240B5154
SUMMARY:Komm auf Tour Klassen 8
CREATED:20211006T083411Z
DTSTAMP:20211006T083411Z
URL:https://www.kkg-zwickau.de/gesamtkalender/komm-auf-tour-klassen-8
X-ACCESS:1
X-HITS:618
X-COLOR:3b4f69
X-SHOW-END-TIME:1
END:VEVENT
BEGIN:VEVENT
DTSTART;TZID=Europe/Berlin:20211014T073000
DTEND;TZID=Europe/Berlin:20211014T140000
UID:D71355D3-51C1-409D-9029-B6731462A9E7
SUMMARY:Berufsberatung BA
CREATED:20211006T083340Z
DTSTAMP:20211006T083340Z
URL:https://www.kkg-zwickau.de/gesamtkalender/berufsberatung-ba-2
LAST-MODIFIED:20211006T083912Z
SEQUENCE:332
LOCATION:Lassallestraße 1\, Sachsen
GEO:50.72893104;12.48514652
X-LOCATION-DISPLAYNAME:Zimmer 107
X-ACCESS:1
X-HITS:891
X-COLOR:3b4f69
X-SHOW-END-TIME:1
END:VEVENT
BEGIN:VEVENT
DTSTART;TZID=Europe/Berlin:20211111T073000
DTEND;TZID=Europe/Berlin:20211111T140000
UID:86FCD45B-FDBC-4715-99B9-F11DF3788CB6
SUMMARY:Berufsberatung BA 
CREATED:20210907T135949Z
DTSTAMP:20210907T135949Z
URL:https://www.kkg-zwickau.de/gesamtkalender/berufsberatung-ba
LAST-MODIFIED:20211006T083828Z
SEQUENCE:2486319
LOCATION:Lassallestraße 1\, Sachsen
GEO:50.72893104;12.48514652
X-LOCATION-DISPLAYNAME:Zimmer 107
X-ACCESS:1
X-HITS:1503
X-COLOR:3b4f69
X-SHOW-END-TIME:1
END:VEVENT
BEGIN:VEVENT
DTSTART;TZID=Europe/Berlin:20211216T073000
DTEND;TZID=Europe/Berlin:20211216T140000
UID:6EE80AE5-D986-4AB8-B061-4C21CDDF57FA
SUMMARY:Berufsberatung BA
CREATED:20211006T084030Z
DTSTAMP:20211006T084030Z
URL:https://www.kkg-zwickau.de/gesamtkalender/berufsberatung-ba-3
LOCATION:Lassallestraße 1\, Sachsen
GEO:50.72893104;12.48514652
X-LOCATION-DISPLAYNAME:Zimmer 107
X-ACCESS:1
X-HITS:1792
X-COLOR:3b4f69
X-SHOW-END-TIME:1
END:VEVENT
BEGIN:VEVENT
DTSTART;VALUE=DATE:20220120
DTEND;VALUE=DATE:20220121
UID:7F972325-0B1F-4A30-899B-9B97F7039117
SUMMARY:Berufsberatung Frau Gronau (BA)
CREATED:20220120T061650Z
DTSTAMP:20220120T061650Z
URL:https://www.kkg-zwickau.de/gesamtkalender/berufsberatung-frau-gronau-ba-4
LOCATION:Lassallestraße 1\, Sachsen
GEO:50.72893104;12.48514652
X-LOCATION-DISPLAYNAME:Zimmer 107
X-ACCESS:1
X-HITS:852
X-COLOR:3b4f69
X-SHOW-END-TIME:1
END:VEVENT
BEGIN:VEVENT
DTSTART;VALUE=DATE:20220317
DTEND;VALUE=DATE:20220318
UID:B69707F3-9EF5-43B6-9177-4F5FBEBBA51A
SUMMARY:Berufsberatung Frau Gronau (BA)
CREATED:20220108T113716Z
DTSTAMP:20220108T113716Z
URL:https://www.kkg-zwickau.de/gesamtkalender/berufsberatung-frau-gronau-ba-2
LOCATION:Lassallestraße 1\, Sachsen
GEO:50.72893104;12.48514652
X-LOCATION-DISPLAYNAME:Zimmer 107
X-ACCESS:1
X-HITS:1745
X-COLOR:3b4f69
X-SHOW-END-TIME:1
END:VEVENT
BEGIN:VEVENT
DTSTART;VALUE=DATE:20220414
DTEND;VALUE=DATE:20220415
UID:76459917-30CC-488F-9A3F-453A59433EFD
SUMMARY:Berufsberatung Frau Gronau (BA)
CREATED:20220108T113739Z
DTSTAMP:20220108T113739Z
URL:https://www.kkg-zwickau.de/gesamtkalender/berufsberatung-frau-gronau-ba-3
LOCATION:Lassallestraße 1\, Sachsen
GEO:50.72893104;12.48514652
X-LOCATION-DISPLAYNAME:Zimmer 107
X-ACCESS:1
X-HITS:1894
X-COLOR:3b4f69
X-SHOW-END-TIME:1
END:VEVENT
BEGIN:VEVENT
DTSTART;VALUE=DATE:20220519
DTEND;VALUE=DATE:20220520
UID:7F370BFC-1B4F-43AC-AD06-AF7FBB04E975
SUMMARY:Berufsberatung Frau Gronau (BA)
CREATED:20220108T113613Z
DTSTAMP:20220108T113613Z
URL:https://www.kkg-zwickau.de/gesamtkalender/berufsberatung-frau-gronau-ba
LAST-MODIFIED:20220108T113929Z
SEQUENCE:196
LOCATION:Lassallestraße 1\, Sachsen
GEO:50.72893104;12.48514652
X-LOCATION-DISPLAYNAME:Zimmer 107
X-ACCESS:1
X-HITS:1906
X-COLOR:3b4f69
X-SHOW-END-TIME:1
END:VEVENT
BEGIN:VEVENT
DTSTART;VALUE=DATE:20220609
DTEND;VALUE=DATE:20220610
UID:2E32A19D-3AD0-4260-84B1-D6EC9E4BD9BF
SUMMARY:Berufsberatung Frau Gronau (BA)
CREATED:20220512T115737Z
DTSTAMP:20220512T115737Z
URL:https://www.kkg-zwickau.de/gesamtkalender/berufsberatung-frau-gronau-ba-5
LOCATION:Lassallestraße 1\, Sachsen
GEO:50.72893104;12.48514652
X-LOCATION-DISPLAYNAME:Zimmer 107
X-ACCESS:1
X-HITS:1378
X-COLOR:3b4f69
X-SHOW-END-TIME:1
END:VEVENT
BEGIN:VEVENT
DTSTART;TZID=Europe/Berlin:20220908T073000
DTEND;TZID=Europe/Berlin:20220908T140000
UID:799BDA4A-3EC8-4A8C-8522-02EED2115C79
SUMMARY:Berufsberatung Frau Gronau
CREATED:20220825T151905Z
DTSTAMP:20220825T151905Z
URL:https://www.kkg-zwickau.de/gesamtkalender/berufsberatung-frau-gronau
LOCATION:Lassallestraße 1\, Sachsen
GEO:50.72893104;12.48514652
X-LOCATION-DISPLAYNAME:Zimmer 107
X-ACCESS:1
X-HITS:1146
X-COLOR:3b4f69
X-SHOW-END-TIME:1
END:VEVENT
BEGIN:VEVENT
DTSTART;TZID=Europe/Berlin:20221006T073000
DTEND;TZID=Europe/Berlin:20221006T140000
UID:DA5D77D7-9207-4C4C-9F46-0103CCB90FE1
SUMMARY:Berufsberatung Frau Gronau (BA)
CREATED:20220825T152007Z
DTSTAMP:20220825T152007Z
URL:https://www.kkg-zwickau.de/gesamtkalender/berufsberatung-frau-gronau-ba-6
LOCATION:Lassallestraße 1\, Sachsen
GEO:50.72893104;12.48514652
X-LOCATION-DISPLAYNAME:Zimmer 107
X-ACCESS:1
X-HITS:1398
X-COLOR:3b4f69
X-SHOW-END-TIME:1
END:VEVENT
BEGIN:VEVENT
DTSTART;TZID=Europe/Berlin:20221108T153000
DTEND;TZID=Europe/Berlin:20221108T190000
UID:1E761AD8-097E-4C78-82D3-A466BEAE14C4
SUMMARY:Berufsberatung Frau Gronau (BA) für Eltern
CREATED:20220825T152657Z
DTSTAMP:20220825T152657Z
URL:https://www.kkg-zwickau.de/gesamtkalender/berufsberatung-frau-gronau-ba-fuer-eltern
LOCATION:Lassallestraße 1\, Sachsen
GEO:50.72893104;12.48514652
X-LOCATION-DISPLAYNAME:Zimmer 107
X-ACCESS:1
X-HITS:1605
X-COLOR:3b4f69
X-SHOW-END-TIME:1
END:VEVENT
BEGIN:VEVENT
DTSTART;TZID=Europe/Berlin:20221124T073000
DTEND;TZID=Europe/Berlin:20221124T140000
UID:6695C30D-5474-4C98-B835-D5F704B15039
SUMMARY:Berufsberatung Frau Gronau (BA)
CREATED:20220825T152048Z
DTSTAMP:20220825T152048Z
URL:https://www.kkg-zwickau.de/gesamtkalender/berufsberatung-frau-gronau-ba-7
LOCATION:Lassallestraße 1\, Sachsen
GEO:50.72893104;12.48514652
X-LOCATION-DISPLAYNAME:Zimmer 107
X-ACCESS:1
X-HITS:1539
X-COLOR:3b4f69
X-SHOW-END-TIME:1
END:VEVENT
BEGIN:VEVENT
DTSTART;TZID=Europe/Berlin:20221208T073000
DTEND;TZID=Europe/Berlin:20221208T140000
UID:96C547FA-BBDB-4E10-ADE9-253C4462A7FC
SUMMARY:Berufsberatung Frau Gronau (BA)
CREATED:20220825T152128Z
DTSTAMP:20220825T152128Z
URL:https://www.kkg-zwickau.de/gesamtkalender/berufsberatung-frau-gronau-ba-8
LOCATION:Lassallestraße 1\, Sachsen
GEO:50.72893104;12.48514652
X-LOCATION-DISPLAYNAME:Zimmer 107
X-ACCESS:1
X-HITS:1681
X-COLOR:3b4f69
X-SHOW-END-TIME:1
END:VEVENT
BEGIN:VEVENT
DTSTART;TZID=Europe/Berlin:20230105T073000
DTEND;TZID=Europe/Berlin:20230105T140000
UID:D50097DD-B189-45BC-9476-85058A8555BB
SUMMARY:Berufsberatung Frau Gronau (BA)
CREATED:20220825T152159Z
DTSTAMP:20220825T152159Z
URL:https://www.kkg-zwickau.de/gesamtkalender/berufsberatung-frau-gronau-ba-9
LOCATION:Lassallestraße 1\, Sachsen
GEO:50.72893104;12.48514652
X-LOCATION-DISPLAYNAME:Zimmer 107
X-ACCESS:1
X-HITS:1722
X-COLOR:3b4f69
X-SHOW-END-TIME:1
END:VEVENT
BEGIN:VEVENT
DTSTART;TZID=Europe/Berlin:20230202T073000
DTEND;TZID=Europe/Berlin:20230202T140000
UID:9BD3F668-C9FB-49C4-AFF7-472A56B337AB
SUMMARY:Berufsberatung Frau Gronau (BA)
CREATED:20220825T152234Z
DTSTAMP:20220825T152234Z
URL:https://www.kkg-zwickau.de/gesamtkalender/berufsberatung-frau-gronau-ba-10
LOCATION:Lassallestraße 1\, Sachsen
GEO:50.72893104;12.48514652
X-LOCATION-DISPLAYNAME:Zimmer 107
X-ACCESS:1
X-HITS:1769
X-COLOR:3b4f69
X-SHOW-END-TIME:1
END:VEVENT
BEGIN:VEVENT
DTSTART;TZID=Europe/Berlin:20230302T073000
DTEND;TZID=Europe/Berlin:20230302T140000
UID:9A97296E-CDC8-4DED-B5EC-BD67CC374F5F
SUMMARY:Berufsberatung Frau Gronau (BA)
CREATED:20220825T152310Z
DTSTAMP:20220825T152310Z
URL:https://www.kkg-zwickau.de/gesamtkalender/berufsberatung-frau-gronau-ba-11
LOCATION:Lassallestraße 1\, Sachsen
GEO:50.72893104;12.48514652
X-LOCATION-DISPLAYNAME:Zimmer 107
X-ACCESS:1
X-HITS:1892
X-COLOR:3b4f69
X-SHOW-END-TIME:1
END:VEVENT
BEGIN:VEVENT
DTSTART;TZID=Europe/Berlin:20230406T073000
DTEND;TZID=Europe/Berlin:20230406T140000
UID:A15AF8ED-CC1F-409F-9322-0B7F17F316FA
SUMMARY:Berufsberatung Frau Gronau (BA)
CREATED:20220825T152345Z
DTSTAMP:20220825T152345Z
URL:https://www.kkg-zwickau.de/gesamtkalender/berufsberatung-frau-gronau-ba-12
LOCATION:Lassallestraße 1\, Sachsen
GEO:50.72893104;12.48514652
X-LOCATION-DISPLAYNAME:Zimmer 107
X-ACCESS:1
X-HITS:2129
X-COLOR:3b4f69
X-SHOW-END-TIME:1
END:VEVENT
BEGIN:VEVENT
DTSTART;TZID=Europe/Berlin:20230425T153000
DTEND;TZID=Europe/Berlin:20230425T190000
UID:7E4A7E16-2FC1-4A56-8EED-D5DEA9C94372
SUMMARY:Berufsberatung Frau Gronau (BA) für Eltern
CREATED:20220825T152738Z
DTSTAMP:20220825T152738Z
URL:https://www.kkg-zwickau.de/gesamtkalender/berufsberatung-frau-gronau-ba-fuer-eltern-2
LOCATION:Lassallestraße 1\, Sachsen
GEO:50.72893104;12.48514652
X-LOCATION-DISPLAYNAME:Zimmer 107
X-ACCESS:1
X-HITS:2002
X-COLOR:3b4f69
X-SHOW-END-TIME:1
END:VEVENT
BEGIN:VEVENT
DTSTART;TZID=Europe/Berlin:20230504T073000
DTEND;TZID=Europe/Berlin:20230504T140000
UID:6B959648-586E-4584-A1C5-A604A9C863B1
SUMMARY:Berufsberatung Frau Gronau (BA)
CREATED:20220825T152440Z
DTSTAMP:20220825T152440Z
URL:https://www.kkg-zwickau.de/gesamtkalender/berufsberatung-frau-gronau-ba-13
LOCATION:Lassallestraße 1\, Sachsen
GEO:50.72893104;12.48514652
X-LOCATION-DISPLAYNAME:Zimmer 107
X-ACCESS:1
X-HITS:1945
X-COLOR:3b4f69
X-SHOW-END-TIME:1
END:VEVENT
BEGIN:VEVENT
DTSTART;TZID=Europe/Berlin:20230601T073000
DTEND;TZID=Europe/Berlin:20230601T140000
UID:9CE9F966-1251-4C00-A909-6AB69256B649
SUMMARY:Berufsberatung Frau Gronau (BA)
CREATED:20220825T152516Z
DTSTAMP:20220825T152516Z
URL:https://www.kkg-zwickau.de/gesamtkalender/berufsberatung-frau-gronau-ba-14
LOCATION:Lassallestraße 1\, Sachsen
GEO:50.72893104;12.48514652
X-LOCATION-DISPLAYNAME:Zimmer 107
X-ACCESS:1
X-HITS:1848
X-COLOR:3b4f69
X-SHOW-END-TIME:1
END:VEVENT
BEGIN:VEVENT
DTSTART;VALUE=DATE:20230622
DTEND;VALUE=DATE:20230623
UID:F39CE3E9-80FA-4257-A084-2F65AA0B98A1
SUMMARY:Berufsberatung Frau Gronau (BA)
CREATED:20220825T152603Z
DTSTAMP:20220825T152603Z
URL:https://www.kkg-zwickau.de/gesamtkalender/berufsberatung-frau-gronau-ba-15
LAST-MODIFIED:20230605T045522Z
SEQUENCE:24499759
LOCATION:Lassallestraße 1\, Sachsen
GEO:50.72893104;12.48514652
X-LOCATION-DISPLAYNAME:Zimmer 107
X-ACCESS:1
X-HITS:1570
X-COLOR:3b4f69
X-SHOW-END-TIME:1
END:VEVENT
BEGIN:VEVENT
DTSTART;VALUE=DATE:20230907
DTEND;VALUE=DATE:20230908
UID:E9B0FAB0-A4D9-40F5-B4A4-8130B97A9616
SUMMARY:Offene Sprechstunde Frau Gronau (BA)
CREATED:20230816T060631Z
DTSTAMP:20230816T060631Z
URL:https://www.kkg-zwickau.de/gesamtkalender/offene-sprechstunde-frau-gronau-ba
X-ACCESS:1
X-HITS:573
X-COLOR:3b4f69
X-SHOW-END-TIME:1
END:VEVENT
BEGIN:VEVENT
DTSTART;VALUE=DATE:20231102
DTEND;VALUE=DATE:20231103
UID:0F40A78A-6D5E-4FDE-A433-33936E5B6619
SUMMARY:Offene Sprechstunde Frau Gronau (BA)
CREATED:20230816T060700Z
DTSTAMP:20230816T060700Z
URL:https://www.kkg-zwickau.de/gesamtkalender/offene-sprechstunde-frau-gronau-ba-2
X-ACCESS:1
X-HITS:784
X-COLOR:3b4f69
X-SHOW-END-TIME:1
END:VEVENT
BEGIN:VEVENT
DTSTART;VALUE=DATE:20231207
DTEND;VALUE=DATE:20231208
UID:AF0560B0-04A7-4F20-A41E-502446E787E2
SUMMARY:Offene Sprechstunde Frau Gronau (BA)
CREATED:20230816T060725Z
DTSTAMP:20230816T060725Z
URL:https://www.kkg-zwickau.de/gesamtkalender/offene-sprechstunde-frau-gronau-ba-3
X-ACCESS:1
X-HITS:920
X-COLOR:3b4f69
X-SHOW-END-TIME:1
END:VEVENT
BEGIN:VEVENT
DTSTART;VALUE=DATE:20240104
DTEND;VALUE=DATE:20240105
UID:3C1AEE8E-05C2-48EF-AD3F-9EFF8A41F8D8
SUMMARY:Offene Sprechstunde Frau Gronau (BA)
CREATED:20230816T060749Z
DTSTAMP:20230816T060749Z
URL:https://www.kkg-zwickau.de/gesamtkalender/offene-sprechstunde-frau-gronau-ba-4
X-ACCESS:1
X-HITS:822
X-COLOR:3b4f69
X-SHOW-END-TIME:1
END:VEVENT
BEGIN:VEVENT
DTSTART;VALUE=DATE:20240201
DTEND;VALUE=DATE:20240202
UID:85960E6A-0C47-49D7-A3FB-2789574473AE
SUMMARY:Offene Sprechstunde Frau Gronau (BA)
CREATED:20230816T060819Z
DTSTAMP:20230816T060819Z
URL:https://www.kkg-zwickau.de/gesamtkalender/offene-sprechstunde-frau-gronau-ba-5
X-ACCESS:1
X-HITS:827
X-COLOR:3b4f69
X-SHOW-END-TIME:1
END:VEVENT
BEGIN:VEVENT
DTSTART;VALUE=DATE:20240307
DTEND;VALUE=DATE:20240308
UID:4DC81CDF-63BB-4423-AFD0-F4AB6C4625E8
SUMMARY:Offene Sprechstunde Frau Gronau (BA)
CREATED:20230816T060901Z
DTSTAMP:20230816T060901Z
URL:https://www.kkg-zwickau.de/gesamtkalender/offene-sprechstunde-frau-gronau-ba-6
X-ACCESS:1
X-HITS:859
X-COLOR:3b4f69
X-SHOW-END-TIME:1
END:VEVENT
BEGIN:VEVENT
DTSTART;VALUE=DATE:20240411
DTEND;VALUE=DATE:20240412
UID:93213224-E238-46F0-8955-7D60EAC9FAD6
SUMMARY:Offene Sprechstunde Frau Gronau (BA)
CREATED:20230816T060923Z
DTSTAMP:20230816T060923Z
URL:https://www.kkg-zwickau.de/gesamtkalender/offene-sprechstunde-frau-gronau-ba-7
X-ACCESS:1
X-HITS:828
X-COLOR:3b4f69
X-SHOW-END-TIME:1
END:VEVENT
BEGIN:VEVENT
DTSTART;VALUE=DATE:20240502
DTEND;VALUE=DATE:20240503
UID:86C30C6B-7F58-40B4-B90E-01549FC47CB4
SUMMARY:Offene Sprechstunde Frau Gronau (BA)
CREATED:20230816T061006Z
DTSTAMP:20230816T061006Z
URL:https://www.kkg-zwickau.de/gesamtkalender/offene-sprechstunde-frau-gronau-ba-8
X-ACCESS:1
X-HITS:857
X-COLOR:3b4f69
X-SHOW-END-TIME:1
END:VEVENT
BEGIN:VEVENT
DTSTART;VALUE=DATE:20240926
DTEND;VALUE=DATE:20240927
UID:C514C4A5-43E1-4C3D-9924-4CFE879BED23
SUMMARY:Offene Sprechstunde Frau Gronau (BA)
CREATED:20240812T124810Z
DTSTAMP:20240812T124810Z
URL:https://www.kkg-zwickau.de/gesamtkalender/offene-sprechstunde-frau-gronau-ba-9
LAST-MODIFIED:20240812T124810Z
SEQUENCE:0
LOCATION:Lassallestraße 1\, Sachsen
GEO:50.72893104;12.48514652
X-LOCATION-DISPLAYNAME:Zimmer 107
X-ACCESS:1
X-HITS:457
X-COLOR:3b4f69
X-SHOW-END-TIME:0
END:VEVENT
BEGIN:VEVENT
DTSTART;VALUE=DATE:20241024
DTEND;VALUE=DATE:20241025
UID:5493E579-2508-47E3-8C70-E6968DCE4E81
SUMMARY:Offene Sprechstunde Frau Gronau (BA)
CREATED:20240812T124843Z
DTSTAMP:20240812T124843Z
URL:https://www.kkg-zwickau.de/gesamtkalender/offene-sprechstunde-frau-gronau-ba-10
LAST-MODIFIED:20240812T124843Z
SEQUENCE:0
LOCATION:Lassallestraße 1\, Sachsen
GEO:50.72893104;12.48514652
X-LOCATION-DISPLAYNAME:Zimmer 107
X-ACCESS:1
X-HITS:517
X-COLOR:3b4f69
X-SHOW-END-TIME:0
END:VEVENT
BEGIN:VEVENT
DTSTART;VALUE=DATE:20241114
DTEND;VALUE=DATE:20241115
UID:A77F961D-26A9-4000-B356-54B8A589C203
SUMMARY:Offene Sprechstunde Frau Gronau (BA)
CREATED:20240812T124912Z
DTSTAMP:20240812T124912Z
URL:https://www.kkg-zwickau.de/gesamtkalender/offene-sprechstunde-frau-gronau-ba-11
LAST-MODIFIED:20240812T124912Z
SEQUENCE:0
LOCATION:Lassallestraße 1\, Sachsen
GEO:50.72893104;12.48514652
X-LOCATION-DISPLAYNAME:Zimmer 107
X-ACCESS:1
X-HITS:419
X-COLOR:3b4f69
X-SHOW-END-TIME:0
END:VEVENT
BEGIN:VEVENT
DTSTART;VALUE=DATE:20241205
DTEND;VALUE=DATE:20241206
UID:BE743BC7-821B-4CAC-B0D3-3719D223467E
SUMMARY:Offene Sprechstunde Frau Gronau (BA)
CREATED:20240812T124938Z
DTSTAMP:20240812T124938Z
URL:https://www.kkg-zwickau.de/gesamtkalender/offene-sprechstunde-frau-gronau-ba-12
LAST-MODIFIED:20240812T124938Z
SEQUENCE:0
LOCATION:Lassallestraße 1\, Sachsen
GEO:50.72893104;12.48514652
X-LOCATION-DISPLAYNAME:Zimmer 107
X-ACCESS:1
X-HITS:504
X-COLOR:3b4f69
X-SHOW-END-TIME:0
END:VEVENT
BEGIN:VEVENT
DTSTART;VALUE=DATE:20250116
DTEND;VALUE=DATE:20250117
UID:4DE31427-B652-4FE2-AB7A-1057229B6066
SUMMARY:Offene Sprechstunde Frau Gronau (BA)
CREATED:20240812T125003Z
DTSTAMP:20240812T125003Z
URL:https://www.kkg-zwickau.de/gesamtkalender/offene-sprechstunde-frau-gronau-ba-13
LAST-MODIFIED:20240812T125024Z
SEQUENCE:21
LOCATION:Lassallestraße 1\, Sachsen
GEO:50.72893104;12.48514652
X-LOCATION-DISPLAYNAME:Zimmer 107
X-ACCESS:1
X-HITS:652
X-COLOR:3b4f69
X-SHOW-END-TIME:0
END:VEVENT
BEGIN:VEVENT
DTSTART;VALUE=DATE:20250306
DTEND;VALUE=DATE:20250307
UID:16488312-8311-483C-815B-12698AD289E1
SUMMARY:Offene Sprechstunde Frau Gronau (BA)
CREATED:20240812T125056Z
DTSTAMP:20240812T125056Z
URL:https://www.kkg-zwickau.de/gesamtkalender/offene-sprechstunde-frau-gronau-ba-14
LAST-MODIFIED:20240812T125056Z
SEQUENCE:0
LOCATION:Lassallestraße 1\, Sachsen
GEO:50.72893104;12.48514652
X-LOCATION-DISPLAYNAME:Zimmer 107
X-ACCESS:1
X-HITS:666
X-COLOR:3b4f69
X-SHOW-END-TIME:1
END:VEVENT
BEGIN:VEVENT
DTSTART;VALUE=DATE:20250404
DTEND;VALUE=DATE:20250405
UID:B4ED75C0-A5E4-4A1B-9473-ACCBE71E8751
SUMMARY:Offene Sprechstunde Frau Gronau (BA)
CREATED:20240812T125123Z
DTSTAMP:20240812T125123Z
URL:https://www.kkg-zwickau.de/gesamtkalender/offene-sprechstunde-frau-gronau-ba-15
LAST-MODIFIED:20250317T193954Z
SEQUENCE:18773311
LOCATION:Lassallestraße 1\, Sachsen
GEO:50.72893104;12.48514652
X-LOCATION-DISPLAYNAME:Zimmer 107
X-ACCESS:1
X-HITS:683
X-COLOR:3b4f69
X-SHOW-END-TIME:0
END:VEVENT
BEGIN:VEVENT
DTSTART;VALUE=DATE:20250508
DTEND;VALUE=DATE:20250509
UID:205291CB-1E30-41DC-94FD-CB710B0A505C
SUMMARY:Offene Sprechstunde Frau Gronau (BA)
CREATED:20240812T125149Z
DTSTAMP:20240812T125149Z
URL:https://www.kkg-zwickau.de/gesamtkalender/offene-sprechstunde-frau-gronau-ba-16
LAST-MODIFIED:20240812T125149Z
SEQUENCE:0
LOCATION:Lassallestraße 1\, Sachsen
GEO:50.72893104;12.48514652
X-LOCATION-DISPLAYNAME:Zimmer 107
X-ACCESS:1
X-HITS:687
X-COLOR:3b4f69
X-SHOW-END-TIME:0
END:VEVENT
BEGIN:VEVENT
DTSTART;TZID=Europe/Berlin:20250821T073000
DTEND;TZID=Europe/Berlin:20250821T140000
UID:343E112E-7F48-4CF5-AEA1-284681346F24
SUMMARY:Offene Sprechstunde Frau Gronau (BA)
CREATED:20250731T115431Z
DTSTAMP:20250731T115431Z
URL:https://www.kkg-zwickau.de/gesamtkalender/offene-sprechstunde-frau-gronau-ba-17
LAST-MODIFIED:20250731T115457Z
SEQUENCE:26
LOCATION:Lassallestraße 1\, Sachsen
GEO:50.72893104;12.48514652
X-LOCATION-DISPLAYNAME:Zimmer 107
X-ACCESS:1
X-HITS:197
X-COLOR:3b4f69
X-SHOW-END-TIME:1
END:VEVENT
BEGIN:VEVENT
DTSTART;TZID=Europe/Berlin:20250918T073000
DTEND;TZID=Europe/Berlin:20250918T140000
UID:0238E071-5C6C-4962-9957-5C73F58CE7D8
SUMMARY:Offene Sprechstunde Frau Gronau (BA)
CREATED:20250731T120004Z
DTSTAMP:20250731T120004Z
URL:https://www.kkg-zwickau.de/gesamtkalender/offene-sprechstunde-frau-gronau-ba-18
LAST-MODIFIED:20250731T120004Z
SEQUENCE:0
LOCATION:Lassallestraße 1\, Sachsen
GEO:50.72893104;12.48514652
X-LOCATION-DISPLAYNAME:Zimmer 107
X-ACCESS:1
X-HITS:267
X-COLOR:3b4f69
X-SHOW-END-TIME:1
END:VEVENT
BEGIN:VEVENT
DTSTART;TZID=Europe/Berlin:20251023T073000
DTEND;TZID=Europe/Berlin:20251023T140000
UID:73D01F76-E1BD-4C8F-AB2F-DD9526031D77
SUMMARY:Offene Sprechstunde Frau Gronau (BA)
CREATED:20250731T120049Z
DTSTAMP:20250731T120049Z
URL:https://www.kkg-zwickau.de/gesamtkalender/offene-sprechstunde-frau-gronau-ba-19
LAST-MODIFIED:20250731T120049Z
SEQUENCE:0
LOCATION:Lassallestraße 1\, Sachsen
GEO:50.72893104;12.48514652
X-LOCATION-DISPLAYNAME:Zimmer 107
X-ACCESS:1
X-HITS:322
X-COLOR:3b4f69
X-SHOW-END-TIME:1
END:VEVENT
BEGIN:VEVENT
DTSTART;TZID=Europe/Berlin:20251113T073000
DTEND;TZID=Europe/Berlin:20251113T140000
UID:A0B72ECA-00E0-4D5E-AD35-AD419CCDE7E1
SUMMARY:Offene Sprechstunde Frau Gronau (BA)
CREATED:20250731T120129Z
DTSTAMP:20250731T120129Z
URL:https://www.kkg-zwickau.de/gesamtkalender/offene-sprechstunde-frau-gronau-ba-20
LAST-MODIFIED:20250731T120129Z
SEQUENCE:0
LOCATION:Lassallestraße 1\, Sachsen
GEO:50.72893104;12.48514652
X-LOCATION-DISPLAYNAME:Zimmer 107
X-ACCESS:1
X-HITS:271
X-COLOR:3b4f69
X-SHOW-END-TIME:1
END:VEVENT
BEGIN:VEVENT
DTSTART;TZID=Europe/Berlin:20251218T073000
DTEND;TZID=Europe/Berlin:20251218T140000
UID:30869A25-D36B-488F-9315-73FC94DA8EE2
SUMMARY:Offene Sprechstunde Frau Gronau (BA)
CREATED:20250731T120203Z
DTSTAMP:20250731T120203Z
URL:https://www.kkg-zwickau.de/gesamtkalender/offene-sprechstunde-frau-gronau-ba-21
LAST-MODIFIED:20250731T120203Z
SEQUENCE:0
LOCATION:Lassallestraße 1\, Sachsen
GEO:50.72893104;12.48514652
X-LOCATION-DISPLAYNAME:Zimmer 107
X-ACCESS:1
X-HITS:275
X-COLOR:3b4f69
X-SHOW-END-TIME:1
END:VEVENT
BEGIN:VEVENT
DTSTART;TZID=Europe/Berlin:20260122T073000
DTEND;TZID=Europe/Berlin:20260122T140000
UID:416F76DD-C9C8-4CD2-9909-79E8893404DD
SUMMARY:Offene Sprechstunde Frau Gronau (BA)
CREATED:20250731T120319Z
DTSTAMP:20250731T120319Z
URL:https://www.kkg-zwickau.de/gesamtkalender/offene-sprechstunde-frau-gronau-ba-23
LAST-MODIFIED:20250731T120319Z
SEQUENCE:0
LOCATION:Lassallestraße 1\, Sachsen
GEO:50.72893104;12.48514652
X-LOCATION-DISPLAYNAME:Zimmer 107
X-ACCESS:1
X-HITS:493
X-COLOR:3b4f69
X-SHOW-END-TIME:1
END:VEVENT
BEGIN:VEVENT
DTSTART;TZID=Europe/Berlin:20260227T073000
DTEND;TZID=Europe/Berlin:20260227T140000
UID:A0B723C1-8DCC-4A9F-B217-B7FE888BD691
SUMMARY:Offene Sprechstunde Frau Gronau (BA)
CREATED:20250731T120423Z
DTSTAMP:20250731T120423Z
URL:https://www.kkg-zwickau.de/gesamtkalender/offene-sprechstunde-frau-gronau-ba-22
LAST-MODIFIED:20260122T201820Z
SEQUENCE:15149637
LOCATION:Lassallestraße 1\, Sachsen
GEO:50.72893104;12.48514652
X-LOCATION-DISPLAYNAME:Zimmer 107
X-ACCESS:1
X-HITS:533
X-COLOR:3b4f69
X-SHOW-END-TIME:1
END:VEVENT
BEGIN:VEVENT
DTSTART;TZID=Europe/Berlin:20260318T073000
DTEND;TZID=Europe/Berlin:20260318T120000
UID:8EF262BF-E268-494B-95E2-037C3E709BDC
SUMMARY:Offene Sprechstunde Frau Gronau (BA)
CREATED:20250731T120458Z
DTSTAMP:20250731T120458Z
URL:https://www.kkg-zwickau.de/gesamtkalender/offene-sprechstunde-frau-gronau-ba-24
LAST-MODIFIED:20260227T125112Z
SEQUENCE:18233174
LOCATION:Lassallestraße 1\, Sachsen
GEO:50.72893104;12.48514652
X-LOCATION-DISPLAYNAME:Zimmer 107
X-ACCESS:1
X-HITS:357
X-COLOR:3b4f69
X-SHOW-END-TIME:1
END:VEVENT
BEGIN:VEVENT
DTSTART;TZID=Europe/Berlin:20260416T073000
DTEND;TZID=Europe/Berlin:20260416T140000
UID:21835A71-C852-4959-9276-CF2F2009A470
SUMMARY:Offene Sprechstunde Frau Gronau (BA)
CREATED:20250731T120533Z
DTSTAMP:20250731T120533Z
URL:https://www.kkg-zwickau.de/gesamtkalender/offene-sprechstunde-frau-gronau-ba-25
LAST-MODIFIED:20250731T120533Z
SEQUENCE:0
LOCATION:Lassallestraße 1\, Sachsen
GEO:50.72893104;12.48514652
X-LOCATION-DISPLAYNAME:Zimmer 107
X-ACCESS:1
X-HITS:358
X-COLOR:3b4f69
X-SHOW-END-TIME:1
END:VEVENT
END:VCALENDAR